Workbook

Sheet DSCR Calculator
C1: DSCR Loan Calculator
A2: Estimate your Debt Service Coverage Ratio, monthly cash flow, and loan payment
B4: PROPERTY & LOAN DETAILS
B5: Purchase Price ($) | C5: 350000
B6: Down Payment (%) | C6: 0.25
B7: Interest Rate (annual %) | C7: 0.07
B8: Loan Term (years) | C8: 30
B9: Loan Amount (calculated) | C9: =C5*(1-C6) -> 262500
B11: MONTHLY RENTAL INCOME
B12: Gross Monthly Rental Income ($) | C12: 3200
B13: Vacancy Factor (%) | C13: 0.05
B14: Effective Monthly Rental Income | C14: =C12*(1-C13) -> 3040
B16: MONTHLY PROPERTY EXPENSES (excluding Principal & Interest)
B17: Property Taxes ($/month) | C17: 350
B18: Property Insurance ($/month) | C18: 150
B19: HOA Dues ($/month) | C19: =300/12 -> 25
B20: Total Monthly Escrow/Expenses (PITIA) | C20: =SUM(C17:C19) -> 525
B22: MONTHLY PAYMENT & DSCR RESULTS
B23: Monthly Principal & Interest (P&I) | C23: =IF(C7=0,C9/(C8*12),(C9*(C7/12))/(1-(1+C7/12)^(-C8*12))) -> 1746.419
B24: Total Monthly Debt Service (PITIA) | C24: =C23+C20 -> 2271.419
B25: Net Monthly Cash Flow (Income - PITIA) | C25: =C14-C24 -> 768.58095
B26: NOI - Annual Net Operating Income | C26: =C14*12 -> 36480
B27: Annual Debt Service (PITIA x 12) | C27: =C24*12 -> 27257.029
B29: DSCR RATIO | D29: WHAT THIS MEANS
B30: =C26/C27 -> 1.3383704 | D30: =IF(B30>=1.25,"Strong: rental income comfortably covers the loan payment.",IF(B30>=1,"Qualifying: income covers the debt service.",IF(B30>=0.75,"Below 1.0 — may still qualify under low-DSCR / no-ratio programs, often with a rate adjustment.","Well below 1.0 — unlikely to qualify without a larger down payment or higher rent."))) -> Strong: rental income comfortably covers the loan payment.
B33: How to use this sheet
B34: • Yellow cells are the only cells you need to edit — everything else calculates automatically.
B35: • DSCR = Annual Net Operating Income ÷ Annual Debt Service. Most lenders look for 1.00x–1.25x; some programs allow 0.75x or “no-ratio” qualification.
B36: • This is an educational estimate only, not a loan quote or commitment. Actual underwriting varies by lender, program, and property.
B37: • See the ‘Amortization Schedule’ tab for the full month-by-month principal and interest breakdown on this loan.

Sheet Amortization Schedule
E1: Monthly Amortization Schedule
B2: Linked to the loan amount, rate, and term entered on the DSCR Calculator tab
B4: Loan Amount | C4: ='DSCR Calculator'!C9 -> 262500 | D4: Interest Rate | E4: ='DSCR Calculator'!C7 -> 0.07 | F4: Term (yrs) | G4: ='DSCR Calculator'!C8 -> 30 | H4: Monthly P&I | J4: ='DSCR Calculator'!C23 -> 1746.419
B7: Month # | C7: Payment Date | D7: Beginning Balance | E7: Monthly Payment | F7: Interest | G7: Principal | H7: Ending Balance
B8: =IF(1<='DSCR Calculator'!$C$8*12,1,"") -> 1 | C8: =IF($B8="","",EDATE(TODAY(),1)) -> 46291 | D8: =IF($B8="","",'DSCR Calculator'!$C$9) -> 262500 | E8: =IF($B8="","",MIN('DSCR Calculator'!$C$23,D8+F8)) -> 1746.419 | F8: =IF($B8="","",D8*('DSCR Calculator'!$C$7/12)) -> 1531.25 | G8: =IF($B8="","",E8-F8) -> 215.16905 | H8: =IF($B8="","",D8-G8) -> 262284.83
B9: =IF(2<='DSCR Calculator'!$C$8*12,2,"") -> 2 | C9: =IF($B9="","",EDATE(TODAY(),2)) -> 46321 | D9: =IF($B9="","",H8) -> 262284.83 | E9: =IF($B9="","",MIN('DSCR Calculator'!$C$23,D9+F9)) -> 1746.419 | F9: =IF($B9="","",D9*('DSCR Calculator'!$C$7/12)) -> 1529.9948 | G9: =IF($B9="","",E9-F9) -> 216.4242 | H9: =IF($B9="","",D9-G9) -> 262068.41
B10: =IF(3<='DSCR Calculator'!$C$8*12,3,"") -> 3 | C10: =IF($B10="","",EDATE(TODAY(),3)) -> 46352 | D10: =IF($B10="","",H9) -> 262068.41 | E10: =IF($B10="","",MIN('DSCR Calculator'!$C$23,D10+F10)) -> 1746.419 | F10: =IF($B10="","",D10*('DSCR Calculator'!$C$7/12)) -> 1528.7324 | G10: =IF($B10="","",E10-F10) -> 217.68668 | H10: =IF($B10="","",D10-G10) -> 261850.72
B11: =IF(4<='DSCR Calculator'!$C$8*12,4,"") -> 4 | C11: =IF($B11="","",EDATE(TODAY(),4)) -> 46382 | D11: =IF($B11="","",H10) -> 261850.72 | E11: =IF($B11="","",MIN('DSCR Calculator'!$C$23,D11+F11)) -> 1746.419 | F11: =IF($B11="","",D11*('DSCR Calculator'!$C$7/12)) -> 1527.4625 | G11: =IF($B11="","",E11-F11) -> 218.95652 | H11: =IF($B11="","",D11-G11) -> 261631.76
B12: =IF(5<='DSCR Calculator'!$C$8*12,5,"") -> 5 | C12: =IF($B12="","",EDATE(TODAY(),5)) -> 46413 | D12: =IF($B12="","",H11) -> 261631.76 | E12: =IF($B12="","",MIN('DSCR Calculator'!$C$23,D12+F12)) -> 1746.419 | F12: =IF($B12="","",D12*('DSCR Calculator'!$C$7/12)) -> 1526.1853 | G12: =IF($B12="","",E12-F12) -> 220.23376 | H12: =IF($B12="","",D12-G12) -> 261411.53
B13: =IF(6<='DSCR Calculator'!$C$8*12,6,"") -> 6 | C13: =IF($B13="","",EDATE(TODAY(),6)) -> 46444 | D13: =IF($B13="","",H12) -> 261411.53 | E13: =IF($B13="","",MIN('DSCR Calculator'!$C$23,D13+F13)) -> 1746.419 | F13: =IF($B13="","",D13*('DSCR Calculator'!$C$7/12)) -> 1524.9006 | G13: =IF($B13="","",E13-F13) -> 221.51846 | H13: =IF($B13="","",D13-G13) -> 261190.01
B14: =IF(7<='DSCR Calculator'!$C$8*12,7,"") -> 7 | C14: =IF($B14="","",EDATE(TODAY(),7)) -> 46472 | D14: =IF($B14="","",H13) -> 261190.01 | E14: =IF($B14="","",MIN('DSCR Calculator'!$C$23,D14+F14)) -> 1746.419 | F14: =IF($B14="","",D14*('DSCR Calculator'!$C$7/12)) -> 1523.6084 | G14: =IF($B14="","",E14-F14) -> 222.81065 | H14: =IF($B14="","",D14-G14) -> 260967.2
B15: =IF(8<='DSCR Calculator'!$C$8*12,8,"") -> 8 | C15: =IF($B15="","",EDATE(TODAY(),8)) -> 46503 | D15: =IF($B15="","",H14) -> 260967.2 | E15: =IF($B15="","",MIN('DSCR Calculator'!$C$23,D15+F15)) -> 1746.419 | F15: =IF($B15="","",D15*('DSCR Calculator'!$C$7/12)) -> 1522.3087 | G15: =IF($B15="","",E15-F15) -> 224.11038 | H15: =IF($B15="","",D15-G15) -> 260743.09
B16: =IF(9<='DSCR Calculator'!$C$8*12,9,"") -> 9 | C16: =IF($B16="","",EDATE(TODAY(),9)) -> 46533 | D16: =IF($B16="","",H15) -> 260743.09 | E16: =IF($B16="","",MIN('DSCR Calculator'!$C$23,D16+F16)) -> 1746.419 | F16: =IF($B16="","",D16*('DSCR Calculator'!$C$7/12)) -> 1521.0014 | G16: =IF($B16="","",E16-F16) -> 225.41769 | H16: =IF($B16="","",D16-G16) -> 260517.67
B17: =IF(10<='DSCR Calculator'!$C$8*12,10,"") -> 10 | C17: =IF($B17="","",EDATE(TODAY(),10)) -> 46564 | D17: =IF($B17="","",H16) -> 260517.67 | E17: =IF($B17="","",MIN('DSCR Calculator'!$C$23,D17+F17)) -> 1746.419 | F17: =IF($B17="","",D17*('DSCR Calculator'!$C$7/12)) -> 1519.6864 | G17: =IF($B17="","",E17-F17) -> 226.73263 | H17: =IF($B17="","",D17-G17) -> 260290.94
B18: =IF(11<='DSCR Calculator'!$C$8*12,11,"") -> 11 | C18: =IF($B18="","",EDATE(TODAY(),11)) -> 46594 | D18: =IF($B18="","",H17) -> 260290.94 | E18: =IF($B18="","",MIN('DSCR Calculator'!$C$23,D18+F18)) -> 1746.419 | F18: =IF($B18="","",D18*('DSCR Calculator'!$C$7/12)) -> 1518.3638 | G18: =IF($B18="","",E18-F18) -> 228.05523 | H18: =IF($B18="","",D18-G18) -> 260062.88
B19: =IF(12<='DSCR Calculator'!$C$8*12,12,"") -> 12 | C19: =IF($B19="","",EDATE(TODAY(),12)) -> 46625 | D19: =IF($B19="","",H18) -> 260062.88 | E19: =IF($B19="","",MIN('DSCR Calculator'!$C$23,D19+F19)) -> 1746.419 | F19: =IF($B19="","",D19*('DSCR Calculator'!$C$7/12)) -> 1517.0335 | G19: =IF($B19="","",E19-F19) -> 229.38556 | H19: =IF($B19="","",D19-G19) -> 259833.5
B20: =IF(13<='DSCR Calculator'!$C$8*12,13,"") -> 13 | C20: =IF($B20="","",EDATE(TODAY(),13)) -> 46656 | D20: =IF($B20="","",H19) -> 259833.5 | E20: =IF($B20="","",MIN('DSCR Calculator'!$C$23,D20+F20)) -> 1746.419 | F20: =IF($B20="","",D20*('DSCR Calculator'!$C$7/12)) -> 1515.6954 | G20: =IF($B20="","",E20-F20) -> 230.72364 | H20: =IF($B20="","",D20-G20) -> 259602.78
B21: =IF(14<='DSCR Calculator'!$C$8*12,14,"") -> 14 | C21: =IF($B21="","",EDATE(TODAY(),14)) -> 46686 | D21: =IF($B21="","",H20) -> 259602.78 | E21: =IF($B21="","",MIN('DSCR Calculator'!$C$23,D21+F21)) -> 1746.419 | F21: =IF($B21="","",D21*('DSCR Calculator'!$C$7/12)) -> 1514.3495 | G21: =IF($B21="","",E21-F21) -> 232.06953 | H21: =IF($B21="","",D21-G21) -> 259370.71
B22: =IF(15<='DSCR Calculator'!$C$8*12,15,"") -> 15 | C22: =IF($B22="","",EDATE(TODAY(),15)) -> 46717 | D22: =IF($B22="","",H21) -> 259370.71 | E22: =IF($B22="","",MIN('DSCR Calculator'!$C$23,D22+F22)) -> 1746.419 | F22: =IF($B22="","",D22*('DSCR Calculator'!$C$7/12)) -> 1512.9958 | G22: =IF($B22="","",E22-F22) -> 233.42326 | H22: =IF($B22="","",D22-G22) -> 259137.28
B23: =IF(16<='DSCR Calculator'!$C$8*12,16,"") -> 16 | C23: =IF($B23="","",EDATE(TODAY(),16)) -> 46747 | D23: =IF($B23="","",H22) -> 259137.28 | E23: =IF($B23="","",MIN('DSCR Calculator'!$C$23,D23+F23)) -> 1746.419 | F23: =IF($B23="","",D23*('DSCR Calculator'!$C$7/12)) -> 1511.6341 | G23: =IF($B23="","",E23-F23) -> 234.7849 | H23: =IF($B23="","",D23-G23) -> 258902.5
B24: =IF(17<='DSCR Calculator'!$C$8*12,17,"") -> 17 | C24: =IF($B24="","",EDATE(TODAY(),17)) -> 46778 | D24: =IF($B24="","",H23) -> 258902.5 | E24: =IF($B24="","",MIN('DSCR Calculator'!$C$23,D24+F24)) -> 1746.419 | F24: =IF($B24="","",D24*('DSCR Calculator'!$C$7/12)) -> 1510.2646 | G24: =IF($B24="","",E24-F24) -> 236.15448 | H24: =IF($B24="","",D24-G24) -> 258666.34
B25: =IF(18<='DSCR Calculator'!$C$8*12,18,"") -> 18 | C25: =IF($B25="","",EDATE(TODAY(),18)) -> 46809 | D25: =IF($B25="","",H24) -> 258666.34 | E25: =IF($B25="","",MIN('DSCR Calculator'!$C$23,D25+F25)) -> 1746.419 | F25: =IF($B25="","",D25*('DSCR Calculator'!$C$7/12)) -> 1508.887 | G25: =IF($B25="","",E25-F25) -> 237.53205 | H25: =IF($B25="","",D25-G25) -> 258428.81
B26: =IF(19<='DSCR Calculator'!$C$8*12,19,"") -> 19 | C26: =IF($B26="","",EDATE(TODAY(),19)) -> 46838 | D26: =IF($B26="","",H25) -> 258428.81 | E26: =IF($B26="","",MIN('DSCR Calculator'!$C$23,D26+F26)) -> 1746.419 | F26: =IF($B26="","",D26*('DSCR Calculator'!$C$7/12)) -> 1507.5014 | G26: =IF($B26="","",E26-F26) -> 238.91765 | H26: =IF($B26="","",D26-G26) -> 258189.89
B27: =IF(20<='DSCR Calculator'!$C$8*12,20,"") -> 20 | C27: =IF($B27="","",EDATE(TODAY(),20)) -> 46869 | D27: =IF($B27="","",H26) -> 258189.89 | E27: =IF($B27="","",MIN('DSCR Calculator'!$C$23,D27+F27)) -> 1746.419 | F27: =IF($B27="","",D27*('DSCR Calculator'!$C$7/12)) -> 1506.1077 | G27: =IF($B27="","",E27-F27) -> 240.31134 | H27: =IF($B27="","",D27-G27) -> 257949.58
B28: =IF(21<='DSCR Calculator'!$C$8*12,21,"") -> 21 | C28: =IF($B28="","",EDATE(TODAY(),21)) -> 46899 | D28: =IF($B28="","",H27) -> 257949.58 | E28: =IF($B28="","",MIN('DSCR Calculator'!$C$23,D28+F28)) -> 1746.419 | F28: =IF($B28="","",D28*('DSCR Calculator'!$C$7/12)) -> 1504.7059 | G28: =IF($B28="","",E28-F28) -> 241.71315 | H28: =IF($B28="","",D28-G28) -> 257707.87
B29: =IF(22<='DSCR Calculator'!$C$8*12,22,"") -> 22 | C29: =IF($B29="","",EDATE(TODAY(),22)) -> 46930 | D29: =IF($B29="","",H28) -> 257707.87 | E29: =IF($B29="","",MIN('DSCR Calculator'!$C$23,D29+F29)) -> 1746.419 | F29: =IF($B29="","",D29*('DSCR Calculator'!$C$7/12)) -> 1503.2959 | G29: =IF($B29="","",E29-F29) -> 243.12315 | H29: =IF($B29="","",D29-G29) -> 257464.75
B30: =IF(23<='DSCR Calculator'!$C$8*12,23,"") -> 23 | C30: =IF($B30="","",EDATE(TODAY(),23)) -> 46960 | D30: =IF($B30="","",H29) -> 257464.75 | E30: =IF($B30="","",MIN('DSCR Calculator'!$C$23,D30+F30)) -> 1746.419 | F30: =IF($B30="","",D30*('DSCR Calculator'!$C$7/12)) -> 1501.8777 | G30: =IF($B30="","",E30-F30) -> 244.54136 | H30: =IF($B30="","",D30-G30) -> 257220.2
B31: =IF(24<='DSCR Calculator'!$C$8*12,24,"") -> 24 | C31: =IF($B31="","",EDATE(TODAY(),24)) -> 46991 | D31: =IF($B31="","",H30) -> 257220.2 | E31: =IF($B31="","",MIN('DSCR Calculator'!$C$23,D31+F31)) -> 1746.419 | F31: =IF($B31="","",D31*('DSCR Calculator'!$C$7/12)) -> 1500.4512 | G31: =IF($B31="","",E31-F31) -> 245.96786 | H31: =IF($B31="","",D31-G31) -> 256974.24
B32: =IF(25<='DSCR Calculator'!$C$8*12,25,"") -> 25 | C32: =IF($B32="","",EDATE(TODAY(),25)) -> 47022 | D32: =IF($B32="","",H31) -> 256974.24 | E32: =IF($B32="","",MIN('DSCR Calculator'!$C$23,D32+F32)) -> 1746.419 | F32: =IF($B32="","",D32*('DSCR Calculator'!$C$7/12)) -> 1499.0164 | G32: =IF($B32="","",E32-F32) -> 247.40267 | H32: =IF($B32="","",D32-G32) -> 256726.83
B33: =IF(26<='DSCR Calculator'!$C$8*12,26,"") -> 26 | C33: =IF($B33="","",EDATE(TODAY(),26)) -> 47052 | D33: =IF($B33="","",H32) -> 256726.83 | E33: =IF($B33="","",MIN('DSCR Calculator'!$C$23,D33+F33)) -> 1746.419 | F33: =IF($B33="","",D33*('DSCR Calculator'!$C$7/12)) -> 1497.5732 | G33: =IF($B33="","",E33-F33) -> 248.84585 | H33: =IF($B33="","",D33-G33) -> 256477.99
B34: =IF(27<='DSCR Calculator'!$C$8*12,27,"") -> 27 | C34: =IF($B34="","",EDATE(TODAY(),27)) -> 47083 | D34: =IF($B34="","",H33) -> 256477.99 | E34: =IF($B34="","",MIN('DSCR Calculator'!$C$23,D34+F34)) -> 1746.419 | F34: =IF($B34="","",D34*('DSCR Calculator'!$C$7/12)) -> 1496.1216 | G34: =IF($B34="","",E34-F34) -> 250.29745 | H34: =IF($B34="","",D34-G34) -> 256227.69
B35: =IF(28<='DSCR Calculator'!$C$8*12,28,"") -> 28 | C35: =IF($B35="","",EDATE(TODAY(),28)) -> 47113 | D35: =IF($B35="","",H34) -> 256227.69 | E35: =IF($B35="","",MIN('DSCR Calculator'!$C$23,D35+F35)) -> 1746.419 | F35: =IF($B35="","",D35*('DSCR Calculator'!$C$7/12)) -> 1494.6615 | G35: =IF($B35="","",E35-F35) -> 251.75752 | H35: =IF($B35="","",D35-G35) -> 255975.93
B36: =IF(29<='DSCR Calculator'!$C$8*12,29,"") -> 29 | C36: =IF($B36="","",EDATE(TODAY(),29)) -> 47144 | D36: =IF($B36="","",H35) -> 255975.93 | E36: =IF($B36="","",MIN('DSCR Calculator'!$C$23,D36+F36)) -> 1746.419 | F36: =IF($B36="","",D36*('DSCR Calculator'!$C$7/12)) -> 1493.1929 | G36: =IF($B36="","",E36-F36) -> 253.22611 | H36: =IF($B36="","",D36-G36) -> 255722.71
B37: =IF(30<='DSCR Calculator'!$C$8*12,30,"") -> 30 | C37: =IF($B37="","",EDATE(TODAY(),30)) -> 47175 | D37: =IF($B37="","",H36) -> 255722.71 | E37: =IF($B37="","",MIN('DSCR Calculator'!$C$23,D37+F37)) -> 1746.419 | F37: =IF($B37="","",D37*('DSCR Calculator'!$C$7/12)) -> 1491.7158 | G37: =IF($B37="","",E37-F37) -> 254.70326 | H37: =IF($B37="","",D37-G37) -> 255468
B38: =IF(31<='DSCR Calculator'!$C$8*12,31,"") -> 31 | C38: =IF($B38="","",EDATE(TODAY(),31)) -> 47203 | D38: =IF($B38="","",H37) -> 255468 | E38: =IF($B38="","",MIN('DSCR Calculator'!$C$23,D38+F38)) -> 1746.419 | F38: =IF($B38="","",D38*('DSCR Calculator'!$C$7/12)) -> 1490.23 | G38: =IF($B38="","",E38-F38) -> 256.18903 | H38: =IF($B38="","",D38-G38) -> 255211.81
B39: =IF(32<='DSCR Calculator'!$C$8*12,32,"") -> 32 | C39: =IF($B39="","",EDATE(TODAY(),32)) -> 47234 | D39: =IF($B39="","",H38) -> 255211.81 | E39: =IF($B39="","",MIN('DSCR Calculator'!$C$23,D39+F39)) -> 1746.419 | F39: =IF($B39="","",D39*('DSCR Calculator'!$C$7/12)) -> 1488.7356 | G39: =IF($B39="","",E39-F39) -> 257.68346 | H39: =IF($B39="","",D39-G39) -> 254954.13
B40: =IF(33<='DSCR Calculator'!$C$8*12,33,"") -> 33 | C40: =IF($B40="","",EDATE(TODAY(),33)) -> 47264 | D40: =IF($B40="","",H39) -> 254954.13 | E40: =IF($B40="","",MIN('DSCR Calculator'!$C$23,D40+F40)) -> 1746.419 | F40: =IF($B40="","",D40*('DSCR Calculator'!$C$7/12)) -> 1487.2324 | G40: =IF($B40="","",E40-F40) -> 259.18662 | H40: =IF($B40="","",D40-G40) -> 254694.94
B41: =IF(34<='DSCR Calculator'!$C$8*12,34,"") -> 34 | C41: =IF($B41="","",EDATE(TODAY(),34)) -> 47295 | D41: =IF($B41="","",H40) -> 254694.94 | E41: =IF($B41="","",MIN('DSCR Calculator'!$C$23,D41+F41)) -> 1746.419 | F41: =IF($B41="","",D41*('DSCR Calculator'!$C$7/12)) -> 1485.7205 | G41: =IF($B41="","",E41-F41) -> 260.69854 | H41: =IF($B41="","",D41-G41) -> 254434.25
B42: =IF(35<='DSCR Calculator'!$C$8*12,35,"") -> 35 | C42: =IF($B42="","",EDATE(TODAY(),35)) -> 47325 | D42: =IF($B42="","",H41) -> 254434.25 | E42: =IF($B42="","",MIN('DSCR Calculator'!$C$23,D42+F42)) -> 1746.419 | F42: =IF($B42="","",D42*('DSCR Calculator'!$C$7/12)) -> 1484.1998 | G42: =IF($B42="","",E42-F42) -> 262.21928 | H42: =IF($B42="","",D42-G42) -> 254172.03
B43: =IF(36<='DSCR Calculator'!$C$8*12,36,"") -> 36 | C43: =IF($B43="","",EDATE(TODAY(),36)) -> 47356 | D43: =IF($B43="","",H42) -> 254172.03 | E43: =IF($B43="","",MIN('DSCR Calculator'!$C$23,D43+F43)) -> 1746.419 | F43: =IF($B43="","",D43*('DSCR Calculator'!$C$7/12)) -> 1482.6702 | G43: =IF($B43="","",E43-F43) -> 263.74889 | H43: =IF($B43="","",D43-G43) -> 253908.28
...
